BEGIN:VCALENDAR
VERSION:2.0
PRODID:-//Plone.org//NONSGML plone.app.event//EN
X-WR-TIMEZONE:US/Central
BEGIN:VEVENT
SUMMARY:Friends of the Library
DTSTART;TZID=US/Central:20221019T120000
DTEND;TZID=US/Central:20221019T133000
DTSTAMP:20260421T223033Z
UID:d37422df7c724f4c93ff4e6b3f5053bc@saas_stack_varnish:6080
ATTENDEE;CN="Friends of the Library members.";ROLE=REQ-PARTICIPANT:Friends
  of the Library members.
CONTACT:Julie Stephens\, President
CREATED:20220324T203324Z
LAST-MODIFIED:20220324T203346Z
LOCATION:Library conference room
URL:https://www.louisiana.lib.mo.us/calendar-news/events/friends-of-the-li
 brary/2022-10-19
END:VEVENT
BEGIN:VTIMEZONE
TZID:US/Central
X-LIC-LOCATION:US/Central
BEGIN:DAYLIGHT
DTSTART:20220313T030000
TZNAME:CDT
TZOFFSETFROM:-0600
TZOFFSETTO:-0500
END:DAYLIGHT
END:VTIMEZONE
END:VCALENDAR
